BEGIN:VCALENDAR
VERSION:2.0
PRODID:-//ZContent.net//ZapCalLib 1.0//EN
CALSCALE:GREGORIAN
METHOD:PUBLISH
BEGIN:VEVENT
SUMMARY:Parlamentswahlen in Rumänien
DTSTART:20081130T080000
DTEND:20081130T200000
UID:2026-04-23-17-54-44-0-@calendar.boell.de
DTSTAMP:20260423T155444
DESCRIPTION:Externe Veranstaltung
END:VEVENT
END:VCALENDAR
