BEGIN:VCALENDAR
VERSION:2.0
PRODID:-//ZContent.net//ZapCalLib 1.0//EN
CALSCALE:GREGORIAN
METHOD:PUBLISH
BEGIN:VEVENT
SUMMARY:RLS: Die Entstehung neuer Welten | Veranstaltung der Rosa-Luxemburg
 -Stiftung
DTSTART:20081024T180000
DTEND:20081024T210000
UID:2026-04-23-20-59-31-0-@calendar.boell.de
DTSTAMP:20260423T185931
DESCRIPTION:
END:VEVENT
END:VCALENDAR
