BEGIN:VCALENDAR
VERSION:2.0
PRODID:-//ZContent.net//ZapCalLib 1.0//EN
CALSCALE:GREGORIAN
METHOD:PUBLISH
BEGIN:VEVENT
SUMMARY:RLS: Proteste, Streiks und Konferenzen - wie weiter auf dem Weg zu 
 ener progressiven Schulpolitik? | Veranstaltung der Rosa-Luxemburg-Stiftun
 g
DTSTART:20081114T160000
DTEND:20081114T200000
UID:2026-04-24-08-45-49-0-@calendar.boell.de
DTSTAMP:20260424T064549
DESCRIPTION:
END:VEVENT
END:VCALENDAR
