BEGIN:VCALENDAR
VERSION:2.0
PRODID:-//ZContent.net//ZapCalLib 1.0//EN
CALSCALE:GREGORIAN
METHOD:PUBLISH
BEGIN:VEVENT
SUMMARY:RLS: Die Kanzlerin und die neuen Medien | Veranstaltung der Rosa-Lu
 xemburg-Stiftung
DTSTART:20081119T193000
DTEND:20081119T220000
UID:2026-04-24-12-27-27-0-@calendar.boell.de
DTSTAMP:20260424T102727
DESCRIPTION:
END:VEVENT
END:VCALENDAR
