BEGIN:VCALENDAR
VERSION:2.0
PRODID:-//ZContent.net//ZapCalLib 1.0//EN
CALSCALE:GREGORIAN
METHOD:PUBLISH
BEGIN:VEVENT
SUMMARY:RLS: Das Grundgesetz gegen den Vertrag von Lissabon verteidigen - D
 ie LINKE. vor dem Bundesverfassungsgericht | Veranstaltung der Rosa-Luxemb
 urg-Stiftung
DTSTART:20081120T190000
DTEND:20081120T210000
UID:2026-04-23-21-49-57-0-@calendar.boell.de
DTSTAMP:20260423T194957
DESCRIPTION:
END:VEVENT
END:VCALENDAR
