BEGIN:VCALENDAR
VERSION:2.0
PRODID:-//ZContent.net//ZapCalLib 1.0//EN
CALSCALE:GREGORIAN
METHOD:PUBLISH
BEGIN:VEVENT
SUMMARY:RLS: Die USA nach der Präsidentenwahl | Veranstaltung der Rosa-Lux
 emburg-Stiftung
DTSTART:20081127T190000
DTEND:20081127T210000
UID:2026-04-25-01-01-19-0-@calendar.boell.de
DTSTAMP:20260424T230119
DESCRIPTION:
END:VEVENT
END:VCALENDAR
