BEGIN:VCALENDAR
VERSION:2.0
PRODID:-//ZContent.net//ZapCalLib 1.0//EN
CALSCALE:GREGORIAN
METHOD:PUBLISH
BEGIN:VEVENT
SUMMARY:KAS: Reformen des Arbeitsmarktes: Alles erledigt oder noch Handlung
 sbedarf? | Veranstaltung der Konrad-Adenauer-Stiftung
DTSTART:20081030T183000
DTEND:20081030T210000
UID:2026-04-25-13-08-04-0-@calendar.boell.de
DTSTAMP:20260425T110804
DESCRIPTION:
END:VEVENT
END:VCALENDAR
