BEGIN:VCALENDAR
VERSION:2.0
PRODID:-//ZContent.net//ZapCalLib 1.0//EN
CALSCALE:GREGORIAN
METHOD:PUBLISH
BEGIN:VEVENT
SUMMARY:ITB 2009 | Internationale Tourismus Börse
DTSTART:20090311T100000
DTEND:20090315T180000
UID:2026-04-25-01-24-43-0-@calendar.boell.de
DTSTAMP:20260424T232443
DESCRIPTION:
END:VEVENT
END:VCALENDAR
