BEGIN:VCALENDAR
VERSION:2.0
PRODID:-//ZContent.net//ZapCalLib 1.0//EN
CALSCALE:GREGORIAN
METHOD:PUBLISH
BEGIN:VEVENT
SUMMARY:Tagung: Familienpolitik | 6. Jahrestagung des Ökonominnen-Netzwerk
 s efas
DTSTART:20081120T113000
DTEND:20081121T161500
UID:2026-04-24-11-18-53-0-@calendar.boell.de
DTSTAMP:20260424T091853
DESCRIPTION:Externe Veranstaltung
END:VEVENT
END:VCALENDAR
