BEGIN:VCALENDAR
VERSION:2.0
PRODID:-//ZContent.net//ZapCalLib 1.0//EN
CALSCALE:GREGORIAN
METHOD:PUBLISH
BEGIN:VEVENT
SUMMARY:Vom Wahltag zum Stichtag | Transatlantische Klima- und Energiepolit
 ik des neuen U.S.-Präsidenten auf dem Weg nach Kopenhagen 2009 
DTSTART:20081120T183000
DTEND:20081120T203000
UID:2026-04-25-01-01-15-0-@calendar.boell.de
DTSTAMP:20260424T230115
DESCRIPTION:Heinrich-Böll-Stiftung - Bundesstiftung Berlin
END:VEVENT
END:VCALENDAR
