BEGIN:VCALENDAR
VERSION:2.0
PRODID:-//ZContent.net//ZapCalLib 1.0//EN
CALSCALE:GREGORIAN
METHOD:PUBLISH
BEGIN:VEVENT
SUMMARY:Jour Fixe: Das Ende einer Ära? - Die globale Finanzkrise und die S
 tellung der USA.  | Aufgaben für den nächsten U.S.-Präsidenten
DTSTART:20081104T180000
DTEND:20081104T200000
UID:2026-04-25-01-36-39-0-@calendar.boell.de
DTSTAMP:20260424T233639
DESCRIPTION:Heinrich-Böll-Stiftung - Bundesstiftung Berlin
END:VEVENT
END:VCALENDAR
