BEGIN:VCALENDAR
VERSION:2.0
PRODID:-//ZContent.net//ZapCalLib 1.0//EN
CALSCALE:GREGORIAN
METHOD:PUBLISH
BEGIN:VEVENT
SUMMARY:Wohin steuert die Weltmacht? | Präsidentschaftswahl in den USA
DTSTART:20081111T200000
DTEND:20081111T220000
UID:2026-04-24-05-19-52-0-@calendar.boell.de
DTSTAMP:20260424T031952
DESCRIPTION:Landesstiftung Sachsen-Anhalt
END:VEVENT
END:VCALENDAR
