BEGIN:VCALENDAR
VERSION:2.0
PRODID:-//ZContent.net//ZapCalLib 1.0//EN
CALSCALE:GREGORIAN
METHOD:PUBLISH
BEGIN:VEVENT
SUMMARY:Conference: A Global Contract Based on Climate Justice - The Need f
 or a New Approach Concerning International Relations
DTSTART:20081111T091500
DTEND:20081111T183000
UID:2026-04-25-12-27-37-0-@calendar.boell.de
DTSTAMP:20260425T102737
DESCRIPTION:Externe Veranstaltung
END:VEVENT
END:VCALENDAR
