BEGIN:VCALENDAR
VERSION:2.0
PRODID:-//ZContent.net//ZapCalLib 1.0//EN
CALSCALE:GREGORIAN
METHOD:PUBLISH
BEGIN:VEVENT
SUMMARY:Zukunft des Sozialen #10: Verlegt auf den 4. März 2009!! | Die Bü
 rgerprivatversicherung / Ein neuer besserer Weg in der Krankenversicherung
 ?
DTSTART:20081112T193000
DTEND:20081112T213000
UID:2026-04-23-21-18-47-0-@calendar.boell.de
DTSTAMP:20260423T191847
DESCRIPTION:Heinrich-Böll-Stiftung - Bundesstiftung Berlin
END:VEVENT
END:VCALENDAR
