BEGIN:VCALENDAR
VERSION:2.0
PRODID:-//ZContent.net//ZapCalLib 1.0//EN
CALSCALE:GREGORIAN
METHOD:PUBLISH
BEGIN:VEVENT
SUMMARY:Klimawandel wegfrühstücken! – Was unsere Ernährung mit dem Kli
 mawandel zu tun hat
DTSTART:20081128T160000
DTEND:20081130T150000
UID:2026-04-24-19-11-58-0-@calendar.boell.de
DTSTAMP:20260424T171158
DESCRIPTION:Stiftung Leben & Umwelt / Heinrich-Böll-Stiftung Niedersachsen
END:VEVENT
END:VCALENDAR
