BEGIN:VCALENDAR
VERSION:2.0
PRODID:-//ZContent.net//ZapCalLib 1.0//EN
CALSCALE:GREGORIAN
METHOD:PUBLISH
BEGIN:VEVENT
SUMMARY:Aufbruch in der Entwicklungspolitik | Soziale Sicherung im Fokus
DTSTART:20081124T200000
DTEND:20081124T213000
UID:2026-04-24-14-17-27-0-@calendar.boell.de
DTSTAMP:20260424T121727
DESCRIPTION:Landesstiftung Berlin (Bildungswerk)
END:VEVENT
END:VCALENDAR
