BEGIN:VCALENDAR
VERSION:2.0
PRODID:-//ZContent.net//ZapCalLib 1.0//EN
CALSCALE:GREGORIAN
METHOD:PUBLISH
BEGIN:VEVENT
SUMMARY:Alles wird gut? Wie die Wahl Obamas Amerika und die Welt verändert
  | Ein Gespräch mit Steve Clemons, New America Foundation
DTSTART:20081115T193000
DTEND:20081115T210000
UID:2026-04-25-03-30-25-0-@calendar.boell.de
DTSTAMP:20260425T013025
DESCRIPTION:
END:VEVENT
END:VCALENDAR
