BEGIN:VCALENDAR
VERSION:2.0
PRODID:-//ZContent.net//ZapCalLib 1.0//EN
CALSCALE:GREGORIAN
METHOD:PUBLISH
BEGIN:VEVENT
SUMMARY:Interkulturell Arbeiten | Tätigkeitsfelder für Geistes- und Sozia
 lwissenschaftlerInnen
DTSTART:20081211T190000
DTEND:20081211T203000
UID:2026-04-24-06-42-10-0-@calendar.boell.de
DTSTAMP:20260424T044210
DESCRIPTION:Heinrich-Böll-Stiftung - Bundesstiftung Berlin
END:VEVENT
END:VCALENDAR
