BEGIN:VCALENDAR
VERSION:2.0
PRODID:-//ZContent.net//ZapCalLib 1.0//EN
CALSCALE:GREGORIAN
METHOD:PUBLISH
BEGIN:VEVENT
SUMMARY:Dokumentarfilm: Abortion Democracy: Poland/South Africa
DTSTART:20081112T180000
DTEND:20081112T203000
UID:2026-04-24-08-46-31-0-@calendar.boell.de
DTSTAMP:20260424T064631
DESCRIPTION:
END:VEVENT
END:VCALENDAR
