BEGIN:VCALENDAR
VERSION:2.0
PRODID:-//ZContent.net//ZapCalLib 1.0//EN
CALSCALE:GREGORIAN
METHOD:PUBLISH
BEGIN:VEVENT
SUMMARY:Gender Lecture: Tarif und Betrieb - Determinanten des Pay Gap im Ha
 ndlungsbereich der Sozialpartner
DTSTART:20081124T181500
DTEND:20081124T194500
UID:2026-04-26-04-41-31-0-@calendar.boell.de
DTSTAMP:20260426T024131
DESCRIPTION:
END:VEVENT
END:VCALENDAR
