BEGIN:VCALENDAR
VERSION:2.0
PRODID:-//ZContent.net//ZapCalLib 1.0//EN
CALSCALE:GREGORIAN
METHOD:PUBLISH
BEGIN:VEVENT
SUMMARY:Schutz vor Diskriminierung im europäischen Kontext | Podiumsdiskus
 sion
DTSTART:20081124T093000
DTEND:20081124T120000
UID:2026-04-24-13-57-01-0-@calendar.boell.de
DTSTAMP:20260424T115701
DESCRIPTION:Heinrich-Böll-Stiftung - Bundesstiftung Berlin
END:VEVENT
END:VCALENDAR
