BEGIN:VCALENDAR
VERSION:2.0
PRODID:-//ZContent.net//ZapCalLib 1.0//EN
CALSCALE:GREGORIAN
METHOD:PUBLISH
BEGIN:VEVENT
SUMMARY:Wohin geht Chile?
DTSTART:20081201T190000
DTEND:20081201T220000
UID:2026-04-24-01-24-17-0-@calendar.boell.de
DTSTAMP:20260423T232417
DESCRIPTION:Landesstiftung Berlin (Bildungswerk)
END:VEVENT
END:VCALENDAR
