BEGIN:VCALENDAR
VERSION:2.0
PRODID:-//ZContent.net//ZapCalLib 1.0//EN
CALSCALE:GREGORIAN
METHOD:PUBLISH
BEGIN:VEVENT
SUMMARY:Einstellung der Ermittlungen gegen ehemalige jüdische Partisanen -
  Zur aktuellen Geschichtspolitik in Litauen
DTSTART:20081205T190000
DTEND:20081205T220000
UID:2026-04-25-16-19-32-0-@calendar.boell.de
DTSTAMP:20260425T141932
DESCRIPTION:Landesstiftung Berlin (Bildungswerk)
END:VEVENT
END:VCALENDAR
