BEGIN:VCALENDAR
VERSION:2.0
PRODID:-//ZContent.net//ZapCalLib 1.0//EN
CALSCALE:GREGORIAN
METHOD:PUBLISH
BEGIN:VEVENT
SUMMARY:Alt werden - Eine besondere Herausforderung für Frauen?! | `Late B
 loomers` - oder : Viele Wege führen nach Lesbos
DTSTART:20090525T200000
DTEND:20090525T000000
UID:2026-04-26-04-41-05-0-@calendar.boell.de
DTSTAMP:20260426T024105
DESCRIPTION:Landesstiftung Berlin (Bildungswerk)
END:VEVENT
END:VCALENDAR
