BEGIN:VCALENDAR
VERSION:2.0
PRODID:-//ZContent.net//ZapCalLib 1.0//EN
CALSCALE:GREGORIAN
METHOD:PUBLISH
BEGIN:VEVENT
SUMMARY:Alt werden - Eine besondere Herausforderung für Frauen?! | Besuchs
 dienst `Zeit für Dich` für frauenliebende Frauen im Alter
DTSTART:20090615T200000
DTEND:20090615T000000
UID:2026-04-26-04-41-11-0-@calendar.boell.de
DTSTAMP:20260426T024111
DESCRIPTION:Landesstiftung Berlin (Bildungswerk)
END:VEVENT
END:VCALENDAR
