BEGIN:VCALENDAR
VERSION:2.0
PRODID:-//ZContent.net//ZapCalLib 1.0//EN
CALSCALE:GREGORIAN
METHOD:PUBLISH
BEGIN:VEVENT
SUMMARY:Alt werden - Eine besondere Herausforderung für Frauen?! | Lesbisc
 he Frauen im Alter - Lebenssituation und spezifische Bedürfnisse
DTSTART:20090629T200000
DTEND:20090629T000000
UID:2026-04-23-20-24-57-0-@calendar.boell.de
DTSTAMP:20260423T182457
DESCRIPTION:Landesstiftung Berlin (Bildungswerk)
END:VEVENT
END:VCALENDAR
