BEGIN:VCALENDAR
VERSION:2.0
PRODID:-//ZContent.net//ZapCalLib 1.0//EN
CALSCALE:GREGORIAN
METHOD:PUBLISH
BEGIN:VEVENT
SUMMARY:Journalistisches Schreiben
DTSTART:20090416T190000
DTEND:20090514T220000
UID:2026-04-24-08-27-35-0-@calendar.boell.de
DTSTAMP:20260424T062735
DESCRIPTION:Landesstiftung Berlin (Bildungswerk)
END:VEVENT
END:VCALENDAR
