BEGIN:VCALENDAR
VERSION:2.0
PRODID:-//ZContent.net//ZapCalLib 1.0//EN
CALSCALE:GREGORIAN
METHOD:PUBLISH
BEGIN:VEVENT
SUMMARY:Aus dem wunderbaren Jahr der Anarchie | Lesung von Texten - mutigen
 , ungehorsamen und komischen - aus dem Wendejahr 1989/90
DTSTART:20090421T200000
DTEND:20090421T000000
UID:2026-04-24-08-27-58-0-@calendar.boell.de
DTSTAMP:20260424T062758
DESCRIPTION:Landesstiftung Berlin (Bildungswerk)
END:VEVENT
END:VCALENDAR
