BEGIN:VCALENDAR
VERSION:2.0
PRODID:-//ZContent.net//ZapCalLib 1.0//EN
CALSCALE:GREGORIAN
METHOD:PUBLISH
BEGIN:VEVENT
SUMMARY:Das Begehren, anders zu sein  | und die staatssozialistische Gouver
 ne-mentalität
DTSTART:20090505T200000
DTEND:20090505T000000
UID:2026-04-25-04-59-41-0-@calendar.boell.de
DTSTAMP:20260425T025941
DESCRIPTION:Landesstiftung Berlin (Bildungswerk)
END:VEVENT
END:VCALENDAR
