BEGIN:VCALENDAR
VERSION:2.0
PRODID:-//ZContent.net//ZapCalLib 1.0//EN
CALSCALE:GREGORIAN
METHOD:PUBLISH
BEGIN:VEVENT
SUMMARY:`Obamania revisited - perspectives for a change?`
DTSTART:20090424T170000
DTEND:20090426T160000
UID:2026-04-23-17-56-33-0-@calendar.boell.de
DTSTAMP:20260423T155633
DESCRIPTION:Landesstiftung Berlin (Bildungswerk)
END:VEVENT
END:VCALENDAR
