BEGIN:VCALENDAR
VERSION:2.0
PRODID:-//ZContent.net//ZapCalLib 1.0//EN
CALSCALE:GREGORIAN
METHOD:PUBLISH
BEGIN:VEVENT
SUMMARY:Ernst Engelberg - ein Jahrhunderthistoriker | veranstaltet von `Ros
 a Luxemburg Stiftung`
DTSTART:20090512T190000
DTEND:20090512T220000
UID:2026-04-24-01-23-20-0-@calendar.boell.de
DTSTAMP:20260423T232320
DESCRIPTION:
END:VEVENT
END:VCALENDAR
