BEGIN:VCALENDAR
VERSION:2.0
PRODID:-//ZContent.net//ZapCalLib 1.0//EN
CALSCALE:GREGORIAN
METHOD:PUBLISH
BEGIN:VEVENT
SUMMARY:Tagung der Vertrauensdozent/inn/en und Auswahlkommissionsmitglieder
  der Heinrich-Böll-Stiftung
DTSTART:20091120T170000
DTEND:20091120T000000
UID:2026-04-26-06-14-54-0-@calendar.boell.de
DTSTAMP:20260426T041454
DESCRIPTION:Heinrich-Böll-Stiftung - Bundesstiftung Berlin
END:VEVENT
END:VCALENDAR
