BEGIN:VCALENDAR
VERSION:2.0
PRODID:-//ZContent.net//ZapCalLib 1.0//EN
CALSCALE:GREGORIAN
METHOD:PUBLISH
BEGIN:VEVENT
SUMMARY:Die Attraktivität deutscher Universitäten im internationalen Verg
 leich  | veranstaltet von `Konrad Adenauer Stiftung`
DTSTART:20091216T183000
DTEND:20091216T203000
UID:2026-04-26-06-15-00-0-@calendar.boell.de
DTSTAMP:20260426T041500
DESCRIPTION:
END:VEVENT
END:VCALENDAR
