BEGIN:VCALENDAR
VERSION:2.0
PRODID:-//ZContent.net//ZapCalLib 1.0//EN
CALSCALE:GREGORIAN
METHOD:PUBLISH
BEGIN:VEVENT
SUMMARY:`Der Sonnenküsser`. Lesung und Diskussion mit Jürgen Landt. Fäll
 t wegen Krankheit leider aus!
DTSTART:20100223T190000
DTEND:20100223T220000
UID:2026-04-26-06-14-57-0-@calendar.boell.de
DTSTAMP:20260426T041457
DESCRIPTION:Landesstiftung Berlin (Bildungswerk)
END:VEVENT
END:VCALENDAR
