BEGIN:VCALENDAR
VERSION:2.0
PRODID:-//ZContent.net//ZapCalLib 1.0//EN
CALSCALE:GREGORIAN
METHOD:PUBLISH
BEGIN:VEVENT
SUMMARY:Das flexible Geschlecht.  | Gender, Glück und Krisenzeiten in der 
 globalen Ökonomie
DTSTART:20101028T170000
DTEND:20101030T120000
UID:2026-04-21-23-45-35-0-@calendar.boell.de
DTSTAMP:20260421T214535
DESCRIPTION:
END:VEVENT
END:VCALENDAR
