BEGIN:VCALENDAR
VERSION:2.0
PRODID:-//ZContent.net//ZapCalLib 1.0//EN
CALSCALE:GREGORIAN
METHOD:PUBLISH
BEGIN:VEVENT
SUMMARY:Gastprofessur: Gender, Science, Technology | Fachübergreifende Ver
 anstaltungen Wintersemester 2010/11
DTSTART:20101018T160000
DTEND:20101018T180000
UID:2026-04-26-06-14-56-0-@calendar.boell.de
DTSTAMP:20260426T041456
DESCRIPTION:
END:VEVENT
END:VCALENDAR
