BEGIN:VCALENDAR
VERSION:2.0
PRODID:-//ZContent.net//ZapCalLib 1.0//EN
CALSCALE:GREGORIAN
METHOD:PUBLISH
BEGIN:VEVENT
SUMMARY:Parliament in the Making | Abgeordnete in Afghanistan-Konflikte, Ko
 mpromisse, Kollaborationen
DTSTART:20100906T190000
DTEND:20100906T210000
UID:2026-04-21-15-21-36-0-@calendar.boell.de
DTSTAMP:20260421T132136
DESCRIPTION:Heinrich-Böll-Stiftung - Bundesstiftung Berlin
END:VEVENT
END:VCALENDAR
