BEGIN:VCALENDAR
VERSION:2.0
PRODID:-//ZContent.net//ZapCalLib 1.0//EN
CALSCALE:GREGORIAN
METHOD:PUBLISH
BEGIN:VEVENT
SUMMARY:Gewalt | Ausstellung | Kunstverein Wolfsburg
DTSTART:20100902T190000
DTEND:20101107T190000
UID:2026-04-20-06-04-35-0-@calendar.boell.de
DTSTAMP:20260420T040435
DESCRIPTION:Externe Veranstaltung
END:VEVENT
END:VCALENDAR
