BEGIN:VCALENDAR
VERSION:2.0
PRODID:-//ZContent.net//ZapCalLib 1.0//EN
CALSCALE:GREGORIAN
METHOD:PUBLISH
BEGIN:VEVENT
SUMMARY:Fachtagung: Inklusive Leidenschaft | Lesben, Schwule, transgeschlec
 htliche Menschen mit Behinderung
DTSTART:20100921T090000
DTEND:20100922T160000
UID:2026-04-21-15-23-17-0-@calendar.boell.de
DTSTAMP:20260421T132317
DESCRIPTION:
END:VEVENT
END:VCALENDAR
