BEGIN:VCALENDAR
VERSION:2.0
PRODID:-//ZContent.net//ZapCalLib 1.0//EN
CALSCALE:GREGORIAN
METHOD:PUBLISH
BEGIN:VEVENT
SUMMARY:Weltausstellung Prinzenstraße X: Der atomare Leviathan | Oskar Neg
 t im Gespräch mit Eduardo Subirats
DTSTART:20100926T110000
DTEND:20100926T110000
UID:2026-04-22-04-13-42-0-@calendar.boell.de
DTSTAMP:20260422T021342
DESCRIPTION:Externe Veranstaltung
END:VEVENT
END:VCALENDAR
