BEGIN:VCALENDAR
VERSION:2.0
PRODID:-//ZContent.net//ZapCalLib 1.0//EN
CALSCALE:GREGORIAN
METHOD:PUBLISH
BEGIN:VEVENT
SUMMARY:Jour Fixe -  Lindener Geschichte | „Die Geschichte der Fußgänge
 rzone in der Limmerstraße“
DTSTART:20101004T180000
DTEND:20101004T180000
UID:2026-04-19-18-36-43-0-@calendar.boell.de
DTSTAMP:20260419T163643
DESCRIPTION:Externe Veranstaltung
END:VEVENT
END:VCALENDAR
