BEGIN:VCALENDAR
VERSION:2.0
PRODID:-//ZContent.net//ZapCalLib 1.0//EN
CALSCALE:GREGORIAN
METHOD:PUBLISH
BEGIN:VEVENT
SUMMARY:Das grüne Marzahn | veranstaltet von `Rosa Luxemburg Stiftung`
DTSTART:20100914T190000
DTEND:20100914T210000
UID:2026-04-26-06-14-56-0-@calendar.boell.de
DTSTAMP:20260426T041456
DESCRIPTION:
END:VEVENT
END:VCALENDAR
