BEGIN:VCALENDAR
VERSION:2.0
PRODID:-//ZContent.net//ZapCalLib 1.0//EN
CALSCALE:GREGORIAN
METHOD:PUBLISH
BEGIN:VEVENT
SUMMARY:Alles was Recht ist. | veranstaltet von `Konrad Adenauer Stiftung`
DTSTART:20100921T100000
DTEND:20100921T173000
UID:2026-04-21-10-09-26-0-@calendar.boell.de
DTSTAMP:20260421T080926
DESCRIPTION:
END:VEVENT
END:VCALENDAR
