BEGIN:VCALENDAR
VERSION:2.0
PRODID:-//ZContent.net//ZapCalLib 1.0//EN
CALSCALE:GREGORIAN
METHOD:PUBLISH
BEGIN:VEVENT
SUMMARY:Diskussion zur Energieversorgung der Zukunft | veranstaltet von `Fo
 rum für Zukunftsenergien`
DTSTART:20100907T000000
DTEND:20100907T235900
UID:2026-04-22-10-07-49-0-@calendar.boell.de
DTSTAMP:20260422T080749
DESCRIPTION:Externe Veranstaltung
END:VEVENT
END:VCALENDAR
