BEGIN:VCALENDAR
VERSION:2.0
PRODID:-//ZContent.net//ZapCalLib 1.0//EN
CALSCALE:GREGORIAN
METHOD:PUBLISH
BEGIN:VEVENT
SUMMARY:Fachtagung zu Bildungsgerechtigkeit und Jugendarmut | veranstaltet 
 von `Deutsches Rotes Kreuz`
DTSTART:20100916T100000
DTEND:20100916T120000
UID:2026-04-21-04-03-40-0-@calendar.boell.de
DTSTAMP:20260421T020340
DESCRIPTION:Externe Veranstaltung
END:VEVENT
END:VCALENDAR
