BEGIN:VCALENDAR
VERSION:2.0
PRODID:-//ZContent.net//ZapCalLib 1.0//EN
CALSCALE:GREGORIAN
METHOD:PUBLISH
BEGIN:VEVENT
SUMMARY:Gender Studies Revisited: Health Care Overhaul? Feministische Gesun
 dheitszentren als blinde Flecken des US-Gesundheitswesens
DTSTART:20101116T180000
DTEND:20101116T200000
UID:2026-04-23-00-48-15-0-@calendar.boell.de
DTSTAMP:20260422T224815
DESCRIPTION:Stiftung Leben & Umwelt / Heinrich-Böll-Stiftung Niedersachsen
END:VEVENT
END:VCALENDAR
