BEGIN:VCALENDAR
VERSION:2.0
PRODID:-//ZContent.net//ZapCalLib 1.0//EN
CALSCALE:GREGORIAN
METHOD:PUBLISH
BEGIN:VEVENT
SUMMARY:Weltausstellung Prinzenstraße XI: Afrikas Menschlichkeit
DTSTART:20101105T180000
DTEND:20101105T180000
UID:2026-04-20-14-24-03-0-@calendar.boell.de
DTSTAMP:20260420T122403
DESCRIPTION:Externe Veranstaltung
END:VEVENT
END:VCALENDAR
