BEGIN:VCALENDAR
VERSION:2.0
PRODID:-//ZContent.net//ZapCalLib 1.0//EN
CALSCALE:GREGORIAN
METHOD:PUBLISH
BEGIN:VEVENT
SUMMARY:Fachtagung zu Sicherheitsstrukturen im Wandel  | veranstaltet von `
 Green Defense at KRS GmbH`
DTSTART:20110503T000000
DTEND:20110504T235900
UID:2026-04-23-19-34-58-0-@calendar.boell.de
DTSTAMP:20260423T173458
DESCRIPTION:Externe Veranstaltung
END:VEVENT
END:VCALENDAR
