BEGIN:VCALENDAR
VERSION:2.0
PRODID:-//ZContent.net//ZapCalLib 1.0//EN
CALSCALE:GREGORIAN
METHOD:PUBLISH
BEGIN:VEVENT
SUMMARY:Fachgespräch zu einem Verkehrslärmschutzgesetz | veranstaltet von
  `Bündnis 90/Die Grünen Bundestagsfraktio`
DTSTART:20110509T130000
DTEND:20110509T180000
UID:2026-04-23-06-10-19-0-@calendar.boell.de
DTSTAMP:20260423T041019
DESCRIPTION:
END:VEVENT
END:VCALENDAR
