BEGIN:VCALENDAR
VERSION:2.0
PRODID:-//ZContent.net//ZapCalLib 1.0//EN
CALSCALE:GREGORIAN
METHOD:PUBLISH
BEGIN:VEVENT
SUMMARY:BT-Fraktion Bündnis 90/Die Grünen - Kulturabend | veranstaltet vo
 n `Bündnis 90/Die Grünen Bundestagsfraktio`
DTSTART:20110510T000000
DTEND:20110510T235900
UID:2026-04-23-20-59-30-0-@calendar.boell.de
DTSTAMP:20260423T185930
DESCRIPTION:
END:VEVENT
END:VCALENDAR
